BEGIN:VCALENDAR
VERSION:2.0
PRODID:-//Panathlon Club Neuchâtel - ECPv6.8.2.1//NONSGML v1.0//EN
CALSCALE:GREGORIAN
METHOD:PUBLISH
X-ORIGINAL-URL:https://panathlon.ratiocom.ch
X-WR-CALDESC:Évènements pour Panathlon Club Neuchâtel
REFRESH-INTERVAL;VALUE=DURATION:PT1H
X-Robots-Tag:noindex
X-PUBLISHED-TTL:PT1H
BEGIN:VTIMEZONE
TZID:Europe/Zurich
BEGIN:DAYLIGHT
TZOFFSETFROM:+0100
TZOFFSETTO:+0200
TZNAME:CEST
DTSTART:20250330T010000
END:DAYLIGHT
BEGIN:STANDARD
TZOFFSETFROM:+0200
TZOFFSETTO:+0100
TZNAME:CET
DTSTART:20251026T010000
END:STANDARD
END:VTIMEZONE
BEGIN:VEVENT
DTSTART;TZID=Europe/Zurich:20250317T190000
DTEND;TZID=Europe/Zurich:20250317T213000
DTSTAMP:20260420T141112
CREATED:20250205T205836Z
LAST-MODIFIED:20250224T202901Z
UID:579-1742238000-1742247000@panathlon.ratiocom.ch
SUMMARY:Tribunal suisse du sport
DESCRIPTION:Yann Hafner est directeur du Tribunal du sport suisse depuis le 1er juillet 2024.  \n\n\n\nIl a auparavant travaillé au service juridique de l’UEFA et de la FIVB. En parallèle\, Yann enseigne actuellement les structures et l’organisation du sport suisse et international à l’Université de Neuchâtel dont il est docteur en droit avec une thèse consacrée à la nationalité sportive (Le concept de nationalité sportive : Sources\, état des lieux critique et relation avec le droit)\, mention summa cum laude\, et récompensée par le Prix de l’ASDS 2020 pour la meilleure thèse de doctorat en droit du sport. \n\n\n\n\n\n\n\n\n\n\nInscription 25.03.17\n\n\n\n\n\n\n\n\n	Nom\n		*\n	\n	\n	\n		Nom	\n\n	\n					\n				\n					Prénom				\n\n										\n						Prénom			\n						\n				\n					Nom				\n\n										\n						Nom			\n				\n\n\n	\n	\n\n\n	Email\n		*\n	\n	\n	\n	\n\n\n	Boutons radio\n		*\n	\n						\n					 Conférence avec repas\n					\n					 Conférence sans repas\n					\n					 Uniquement repas\n					\n					 Je ne suis malheureusement pas disponible\n\n	\n	\n\n\n	\nEnvoyer\n\n\n\n\n\n	\n				\n				\n					Si vous êtes un humain\, ne remplissez pas ce champ.				\n				\n			\n		\n\n\n\nΔ
URL:https://panathlon.ratiocom.ch/activite/tribunal-suisse-du-sport/
LOCATION:Hôtel Beaulac Neuchâtel\, Esp. Léopold-Robert 2\, Neuchâtel\, 2000\, Switzerland
CATEGORIES:Réservées aux membres,Réunions mensuelles
ATTACH;FMTTYPE=image/png:https://panathlon.ratiocom.ch/wp-content/uploads/2025/02/image002.png
END:VEVENT
END:VCALENDAR