BEGIN:VCALENDAR
VERSION:2.0
PRODID:-//Panathlon Club Neuchâtel - ECPv6.8.2.1//NONSGML v1.0//EN
CALSCALE:GREGORIAN
METHOD:PUBLISH
X-WR-CALNAME:Panathlon Club Neuchâtel
X-ORIGINAL-URL:https://panathlon.ratiocom.ch
X-WR-CALDESC:Évènements pour Panathlon Club Neuchâtel
REFRESH-INTERVAL;VALUE=DURATION:PT1H
X-Robots-Tag:noindex
X-PUBLISHED-TTL:PT1H
BEGIN:VTIMEZONE
TZID:Europe/Zurich
BEGIN:DAYLIGHT
TZOFFSETFROM:+0100
TZOFFSETTO:+0200
TZNAME:CEST
DTSTART:20240331T010000
END:DAYLIGHT
BEGIN:STANDARD
TZOFFSETFROM:+0200
TZOFFSETTO:+0100
TZNAME:CET
DTSTART:20241027T010000
END:STANDARD
END:VTIMEZONE
BEGIN:VEVENT
DTSTART;TZID=Europe/Zurich:20241210T180000
DTEND;TZID=Europe/Zurich:20241210T220000
DTSTAMP:20260421T000717
CREATED:20241207T154607Z
LAST-MODIFIED:20241207T154608Z
UID:471-1733853600-1733868000@panathlon.ratiocom.ch
SUMMARY:L'unihockey de Corcelles
DESCRIPTION:Grégoire Schneider\, coach d’unihockey\, nous parlera de son équipe de Corcelles néo promue en 1ère ligue cette année \n\n\n\nCela faisait environ 10 ans que le club et les membres avaient formulé l’ambition d’atteindre la 1ère Ligue. Durant cette période\, l’équipe a dû lutter une saison contre la relégation en 3ème Ligue\, mais elle a aussi remporté deux fois le championnat de 2ème Ligue ; sans jamais réussir toutefois à emporter ne serait-ce qu’un seul match de play-offs donnant accès aux barrages de promotion. J’ai eu l’occasion d’entraîner une première fois cette équipe durant trois saisons entre 2014 et 2017. \n\n\n\nFormé au club de Corcelles-Cormondrèche\, j’y ai retrouvé en 2023 des amis\, des anciens juniors que j’avais eu la chance d’entraîner à mes débuts\, des anciens coéquipiers ayant poursuivi leur carrière de joueurs. Et les planètes se sont alignées pour que ce groupe exceptionnel accède à la 1ère Ligue. \n\n\nVeuillez sélectionner un formulaire valide
URL:https://panathlon.ratiocom.ch/activite/lunihockey-de-corcelles/
LOCATION:Rue de la Pierre-à-Mazel 10\, 2000 Neuchâtel\, Rue de la Pierre-à-Mazel 10\, Neuchâtel\, 2000\, Switzerland
END:VEVENT
END:VCALENDAR